BEGIN:VCALENDAR
PRODID:-//eluceo/ical//2.0/EN
VERSION:2.0
CALSCALE:GREGORIAN
BEGIN:VEVENT
UID:d309a71a1ff327ce0adae02cf2c57d39
DTSTAMP:20251119T084651Z
SUMMARY:Altenburger Spieleabend am 26. Juni
DESCRIPTION:Altenburger Spieletage organisiert einen Spieleabend in der Zei
 tzer Straße 39\, Altenburg\; Verpflegung kann selbst mitgebracht oder Vor
 ort für einen Unkostenbeitrag gekauft werden.
URL:http://www.altenburger-spieletage.de
DTSTART;TZID=Europe/Berlin:20260626T170000
DTEND;TZID=Europe/Berlin:20260626T220000
LOCATION:Gemeindezentrum der Ev.-Freikirchliche Gemeinde\, Zeitzer Str. 39 
 04600 Altenburg
ORGANIZER;CN=Gabriele & Thomas Orymek:mailto:info@altenburger-spieletage.de
END:VEVENT
BEGIN:VEVENT
UID:238c708b07b8520a83810866480d896a
DTSTAMP:20260410T105410Z
SUMMARY:Sommertheater „Schell Zehne - Kleingartengeschichten“ zum Wilch
 witzer Volksfest
DESCRIPTION:Der Amateurschauspielverein Künstler & Wenzelgarde Altenburger
  e.V. zeigt zum diesjährigen Sommertheater das Stück „Schell Zehne - K
 leingartengeschichten“.  
URL:https://www.altenburgerland.de/de/freizeit-tourismus/veranstaltungskale
 nder/sommertheater-schell-zehne-kleingartengeschichten-zum-wilchwitzer-vol
 ksfest
DTSTART;TZID=Europe/Berlin:20260626T190000
DTEND;TZID=Europe/Berlin:20260626T235959
LOCATION:Dorfplatz Wilchwitz 04603 Nobitz
ORGANIZER;CN=Wilchwitzer Feuerwehrverein e.V.:mailto:info@feuerwehrverein-w
 ilchwitz.de
END:VEVENT
BEGIN:VEVENT
UID:aab32a90068d22e939da802c884cec84
DTSTAMP:20260323T145642Z
SUMMARY:Gartenrundwanderweg Altenburg – Imker Jörg Kipping aus Mockzig z
 eigt uns seine Bienenvölker.
DESCRIPTION:Geführte Wanderung auf der Wanderroute durch die Vielfalt der 
 Altenburger Kleingartenreiche. 
URL:https://gartenrundwanderweg-altenburg.de/
DTSTART;TZID=Europe/Berlin:20260627T100000
DTEND;TZID=Europe/Berlin:20260627T130000
LOCATION:Treffpunkt: Tourismusinformation\, Markt 10 04600 Altenburg
ORGANIZER;CN=Regionalverband Altenburger Land der Kleingärtner e.V.:mailto
 :info@kleingarten-altenburg.de
END:VEVENT
BEGIN:VEVENT
UID:05bd85af11c0304a05b67bc970d8d26d
DTSTAMP:20260209T193117Z
SUMMARY:Öffentliche Stadtführung durch Altenburg am 27. Juni
DESCRIPTION:Verschaffen Sie sich einen Überblick und begleiten Sie uns auf
  einem entspannten Rundgang durch die reizvolle Altenburger Altstadt. Ansc
 hließend verkosten Sie leckere Altenburger Spezialitäten.\nAnmeldung bis
  kurz vor der Veranstaltung möglich. 
URL:https://www.altenburger-originale.de/
DTSTART;TZID=Europe/Berlin:20260627T110000
DTEND;TZID=Europe/Berlin:20260627T123000
LOCATION:Start: Spielkarten- & Spezialitätenladen der Altenburger Tourismu
 s GmbH\, Markt 17 (neben Rossmann) 04600 Altenburg
END:VEVENT
BEGIN:VEVENT
UID:86f2f5b819382778846addb59ac73e4a
DTSTAMP:20260316T120003Z
SUMMARY:Altenburger Friedhofsführung am 27. Juni
DESCRIPTION:Einen der ältesten noch genutzten Stadtfriedhöfe können Besu
 cher in Altenburg erkunden.  
URL:https://www.altenburgerland.de/de/freizeit-tourismus/veranstaltungskale
 nder/altenburger-friedhofsfuehrung-am-27-juni
DTSTART;TZID=Europe/Berlin:20260627T140000
DTEND;TZID=Europe/Berlin:20260627T160000
LOCATION:Treffpunkt: Eingang Kirchlicher Friedhof Altenburg\, Grüntaler We
 g 4 04600 Altenburg
ORGANIZER;CN=Tourismusverband Altenburger Land e.V.:mailto:info@altenburg.t
 ravel
END:VEVENT
BEGIN:VEVENT
UID:987585aec3b69abccc2cd4a7c675c486
DTSTAMP:20260319T132443Z
SUMMARY:Sommerkonzert der Musikschule - Konzert der Besten
DESCRIPTION:Sommerkonzert der Musikschule des Landkreises Altenburger Land.
  
URL:https://teehaus-altenburg.de/
DTSTART;VALUE=DATE:20260627
LOCATION:Teehaussaal\, Schlossberg 1 04600 Altenburg
END:VEVENT
BEGIN:VEVENT
UID:6537c605d10a7463ef5360ab34ed2e61
DTSTAMP:20260309T121449Z
SUMMARY:Zusatzkonzert: Lieder aus einer längst vergangenen Zeit Vol. II
DESCRIPTION:
URL:https://www.altenburgerland.de/de/freizeit-tourismus/veranstaltungskale
 nder/zusatzkonzert-lieder-aus-einer-laengst-vergangenen-zeit-vol-ii
DTSTART;TZID=Europe/Berlin:20260627T150000
DTEND;TZID=Europe/Berlin:20260627T235959
LOCATION:04617 Fockendorf
ORGANIZER;CN=Papiermuseum Fockendorf:mailto:papiermuseum@gmx.de
END:VEVENT
BEGIN:VEVENT
UID:aeb22ab394fecf6286720c64294dafc3
DTSTAMP:20260223T084140Z
SUMMARY:Wilchwitzer Volksfest 2026
DESCRIPTION:Am Samstag und Sonntag\, dem 27. und 28. Juni 2026 veranstaltet
  der Wilchwitzer Feuerwehrverein wieder sein traditionelles Volksfest für
  Jung und Alt.
URL:https://www.feuerwehrverein-wilchwitz.de/
DTSTART;VALUE=DATE:20260627
LOCATION:Dorfplatz Wilchwitz 04603 Nobitz
ORGANIZER;CN=Wilchwitzer Feuerwehrverein e.V.:mailto:info@feuerwehrverein-w
 ilchwitz.de
END:VEVENT
BEGIN:VEVENT
UID:7aff099414074f81fe13aab272302f10
DTSTAMP:20260223T125348Z
SUMMARY:Musical Dinner „Dreams of Disney“ – open air
DESCRIPTION:Lassen Sie sich verzaubern und folgen Sie uns in die Traumwelte
 n von Disney. 
URL:https://www.sek-show.de/altenburg/
DTSTART;TZID=Europe/Berlin:20260627T180000
DTEND;TZID=Europe/Berlin:20260627T220000
LOCATION:Ratskeller Altenburg\, Markt 1 04600 Altenburg
ORGANIZER;CN=Ratskeller Altenburg:mailto:info@ratskeller-altenburg.de
END:VEVENT
BEGIN:VEVENT
UID:795d2ff30798b2bdf9394ac4676cf4da
DTSTAMP:20260317T152901Z
SUMMARY:Weinabend im Botanischen Erlebnisgarten 
DESCRIPTION:Der Botanische Erlebnisgarten in Altenburg lädt zum Weinabend 
 ein. 
URL:https://www.altenburgerland.de/de/freizeit-tourismus/veranstaltungskale
 nder/weinabend-im-botanischen-erlebnisgarten
DTSTART;TZID=Europe/Berlin:20260627T180000
DTEND;TZID=Europe/Berlin:20260627T235959
LOCATION:Botanischer Erlebnisgarten Altenburg\, Heinrich-Zille-Straße 12 0
 4600 Altenburg
ORGANIZER;CN=Botanischer Erlebnisgarten Altenburg:mailto:boga-altenburg@t-o
 nline.de
END:VEVENT
BEGIN:VEVENT
UID:61d919d8c5220da0796f909572c76ddf
DTSTAMP:20260309T121250Z
SUMMARY:Konzert: Lieder aus einer längst vergangenen Zeit Vol. II
DESCRIPTION:
URL:https://www.altenburgerland.de/de/freizeit-tourismus/veranstaltungskale
 nder/konzert-lieder-aus-einer-laengst-vergangenen-zeit-vol-ii
DTSTART;TZID=Europe/Berlin:20260627T200000
DTEND;TZID=Europe/Berlin:20260627T235959
LOCATION:04617 Fockendorf
ORGANIZER;CN=Papiermuseum Fockendorf:mailto:papiermuseum@gmx.de
END:VEVENT
BEGIN:VEVENT
UID:cbf2841e13a1ffd89477f1049cc7a5e3
DTSTAMP:20260407T115332Z
SUMMARY:Steh auf! Hoffnung auf Heilung. Musikalische Bibelarbeiten. 
DESCRIPTION:II. Hiob oder „Nicht kratzen!“
URL:https://www.altenburgerland.de/de/freizeit-tourismus/veranstaltungskale
 nder/steh-auf-hoffnung-auf-heilung-musikalische-bibelarbeiten-2643
DTSTART;TZID=Europe/Berlin:20260628T160000
DTEND;TZID=Europe/Berlin:20260628T235959
LOCATION:Kirche Nöbdenitz\, Dorfstraße 29 04626 Schmölln
ORGANIZER;CN=Evang.-Luther. Kirchgemeinde Nöbdenitz:mailto:kirchkasse.noeb
 denitz@googlemail.com
END:VEVENT
BEGIN:VEVENT
UID:faf37d8579acc9758267fff91e6c3f4b
DTSTAMP:20260421T065839Z
SUMMARY:Turmblasen vom Nikolaikirchturm Altenburg
DESCRIPTION:Inzwischen zur Tradition geworden\, erklingt die Bläsermusik d
 es Altenburger Posaunenchors wieder vom Nikolaikirchturm. 
URL:https://www.altenburgerland.de/de/freizeit-tourismus/veranstaltungskale
 nder/turmblasen-vom-nikolaikirchturm-altenburg-dca9
DTSTART;TZID=Europe/Berlin:20260628T180000
DTEND;TZID=Europe/Berlin:20260628T235959
LOCATION:Nikolaikirchturm\, Nikolaikirchhof 45  04600 Altenburg
ORGANIZER;CN=Posaunenchor Altenburg:mailto:posaunenchor-altenburg@web.de
END:VEVENT
BEGIN:VEVENT
UID:119a6275e8bac89769967dc1415fd6d3
DTSTAMP:20260215T212006Z
SUMMARY:Öffentliche Stadtführung durch Altenburg am 29. Juni
DESCRIPTION:Kommen Sie mit uns auf einen Entdeckungstour durch die ehemalig
 e Residenz der Wettiner Fürsten. Es gibt keine bessere Art\, einen guten 
 Überblick über die Spielkartenstadt und ihre 1000-jährige Geschichte zu
  erhalten. 
URL:https://www.altenburger-originale.de/
DTSTART;TZID=Europe/Berlin:20260629T110000
DTEND;TZID=Europe/Berlin:20260629T123000
LOCATION:Start: Spielkarten- & Spezialitätenladen der Altenburger Tourismu
 s GmbH\, Markt 17 (neben Rossmann) 04600 Altenburg
END:VEVENT
BEGIN:VEVENT
UID:8f4cb958d8c4df0c6875b49d4ebd948f
DTSTAMP:20260407T093154Z
SUMMARY:Tanz dich fit
DESCRIPTION:Tanznachmittag für 60- bis 105-jährige 
URL:https://www.altenburgerland.de/de/freizeit-tourismus/veranstaltungskale
 nder/tanz-dich-fit-f06a
DTSTART;TZID=Europe/Berlin:20260629T141500
DTEND;TZID=Europe/Berlin:20260629T235959
LOCATION:Kultur- & Bildungswerkstatt Nöbdenitz\, Dorfstraße 29 04626 Schm
 ölln
ORGANIZER;CN=Evang.-Luther. Kirchgemeinde Nöbdenitz:mailto:kirchkasse.noeb
 denitz@googlemail.com
END:VEVENT
BEGIN:VEVENT
UID:3792d9f13093c3b0578de00b69e4beda
DTSTAMP:20260215T205648Z
SUMMARY:Stadtführung durch Altenburg „Eine Zeitreise durch 1050 Jahre“
  mit Verkostung am 01. Juli
DESCRIPTION:Kommen Sie mit uns auf einen Entdeckungstour durch die ehemalig
 e Residenz der Wettiner Fürsten. Es gibt keine bessere Art\, einen guten 
 Überblick über die Spielkartenstadt und ihre 1050-jährige Geschichte zu
  erhalten. \n\nDazu haben Sie die Möglichkeit\, im Spielkartenladen lecke
 re Altenburger Spezialitäten wie den berühmten Ziegenkäse und leckeren 
 Likör zu verkosten und erfahren außerdem Spannendes über die weltberüh
 mten Spielkarten. 
URL:https://www.altenburger-originale.de/
DTSTART;TZID=Europe/Berlin:20260701T140000
DTEND;TZID=Europe/Berlin:20260701T153000
LOCATION:Start: Spielkarten- & Spezialitätenladen der Altenburger Tourismu
 s GmbH\, Markt 17 (neben Rossmann) 04600 Altenburg
END:VEVENT
BEGIN:VEVENT
UID:89859a7a5b8dfb8537bd2bd610def734
DTSTAMP:20260317T082530Z
SUMMARY:Kulinarische Sommerabendtour am 03. Juli
DESCRIPTION:Kommen Sie mit uns auf einen gemütlichen kulinarische Stadtrun
 dgang durch Altenburg am Abend! Wir führen Sie an besondere Orte Altenbur
 gs wie den Nikolaikirchhof und verkosten mit Ihnen leckere Altenburger Spe
 zialitäten wie die Altenburger Beamtenbemme\, schmackhafte „Mundvolls
 “\, Altenburger Ziegenkäse und Liköre.
URL:https://www.altenburger-originale.de
DTSTART;TZID=Europe/Berlin:20260703T170000
DTEND;TZID=Europe/Berlin:20260703T183000
LOCATION:Start: Altenburger Tourismus GmbH\, Markt 17 (neben Rossmann) 0460
 0 Altenburg
END:VEVENT
BEGIN:VEVENT
UID:a9b61a5575b80aa2b9a8808239c55ec7
DTSTAMP:20260421T075847Z
SUMMARY:Yoga im Botanischen Erlebnisgarten
DESCRIPTION:Entspannt ins Wochenende starten. 
URL:https://www.altenburgerland.de/de/freizeit-tourismus/veranstaltungskale
 nder/yoga-im-botanischen-erlebnisgarten-79bf
DTSTART;TZID=Europe/Berlin:20260704T093000
DTEND;TZID=Europe/Berlin:20260704T110000
LOCATION:Botanischer Erlebnisgarten Altenburg\, Heinrich-Zille-Straße 12 0
 4600 Altenburg
ORGANIZER;CN=Diana Rosner:mailto:dianarosner07@web.de
END:VEVENT
BEGIN:VEVENT
UID:d35ecd16c29b09ceb51641ba5839c6af
DTSTAMP:20260310T114236Z
SUMMARY:KRÄUTERKURS Sommer Kräuter am 4. Juli 
DESCRIPTION:Was beschert uns der Sommer an Kräutern und Früchten? Sammeln
 \, Bestimmen und Verarbeiten zu Marmeladen\, Konfitüren\, Likörchen u.a.
 \n
URL:https://www.altenburgerland.de/de/freizeit-tourismus/veranstaltungskale
 nder/kraeuterkurs-sommer-kraeuter-am-4-juli
DTSTART;TZID=Europe/Berlin:20260704T100000
DTEND;TZID=Europe/Berlin:20260704T150000
LOCATION:Kunst- und Kräuterhof 04626 Posterstein
END:VEVENT
BEGIN:VEVENT
UID:9b2042090a32f916416fbe4e18a5d71d
DTSTAMP:20260209T193048Z
SUMMARY:Öffentliche Stadtführung durch Altenburg am 04. Juli
DESCRIPTION:Verschaffen Sie sich einen Überblick und begleiten Sie uns auf
  einem entspannten Rundgang durch die reizvolle Altenburger Altstadt. Ansc
 hließend verkosten Sie leckere Altenburger Spezialitäten.\nAnmeldung bis
  kurz vor der Veranstaltung möglich. 
URL:https://www.altenburger-originale.de/
DTSTART;TZID=Europe/Berlin:20260704T110000
DTEND;TZID=Europe/Berlin:20260704T123000
LOCATION:Start: Spielkarten- & Spezialitätenladen der Altenburger Tourismu
 s GmbH\, Markt 17 (neben Rossmann) 04600 Altenburg
END:VEVENT
END:VCALENDAR
