BEGIN:VCALENDAR
PRODID:-//eluceo/ical//2.0/EN
VERSION:2.0
CALSCALE:GREGORIAN
BEGIN:VEVENT
UID:beb7df8d677b38af5616b71cd9e89d8c
DTSTAMP:20260218T065341Z
SUMMARY:Kaffeekränzchen am 29. Mai 2026
DESCRIPTION:Veranstaltungsreihe für ältere Museumsfreunde
URL:https://www.altenburgerland.de/de/freizeit-tourismus/veranstaltungskale
 nder/kaffeekraenzchen-am-29-mai-2026
DTSTART;TZID=Europe/Berlin:20260529T140000
DTEND;TZID=Europe/Berlin:20260529T160000
LOCATION:Schlossmuseum 04600 Altenburg
ORGANIZER;CN=Altenburger Museen (Schloss):mailto:info@residenzschloss-alten
 burg.de
END:VEVENT
BEGIN:VEVENT
UID:ff1cf60ccdd6319ea4f9798e8e15571d
DTSTAMP:20260214T214011Z
SUMMARY:Schmecktour in Schmölln am Abend After-Work am 29. Mai
DESCRIPTION:Die hübsche Knopfstadt Schmölln hat kulinarisch Einiges zu bi
 eten: Mit uns verkosten Sie an bis zu 5 Stationen rund um die Innenstadt h
 erzhafte hausgemachte einheimische und neu kreierte Spezialitäten und kom
 men mit den Menschen hinter den Leckereien ins Gespräch. Unterwegs erzäh
 len wir Ihnen Geschichte(n) von Land und Leuten und führen Sie bis hoch a
 uf den Pfefferberg und besuchen auch sonst nicht zugängliche verwunschene
  Orte wie den “Hillerturm”.
URL:https://www.schmecktouren.de/produkt/schmecktour-in-schmoelln-am-abend-
 after-work/
DTSTART;TZID=Europe/Berlin:20260529T170000
DTEND;TZID=Europe/Berlin:20260529T200000
LOCATION:Bahnhofsplatz Schmölln\n 04626 Schmölln
END:VEVENT
BEGIN:VEVENT
UID:bb2d7fd922b6f6a11352222ded6866f4
DTSTAMP:20251119T080236Z
SUMMARY:Altenburger Spieleabend am 29. Mai
DESCRIPTION:Altenburger Spieletage organisiert einen Spieleabend in der Zei
 tzer Straße 39\, Altenburg\; Verpflegung kann selbst mitgebracht oder Vor
 ort für einen Unkostenbeitrag gekauft werden.
URL:http://www.altenburger-spieletage.de
DTSTART;TZID=Europe/Berlin:20260529T170000
DTEND;TZID=Europe/Berlin:20260529T220000
LOCATION:Gemeindezentrum der Ev.-Freikirchliche Gemeinde\, Zeitzer Str. 39 
 04600 Altenburg
ORGANIZER;CN=Gabriele & Thomas Orymek:mailto:info@altenburger-spieletage.de
END:VEVENT
BEGIN:VEVENT
UID:ec3eb7d270fbbafafca0a9bd6b770675
DTSTAMP:20260407T070003Z
SUMMARY:Komödie „Der Gott des Gemetzels“
DESCRIPTION:Eine Komödie 
URL:https://theater-altenburg-gera.de/stuecke-konzerte/der-gott-des-gemetze
 ls-1909/
DTSTART;TZID=Europe/Berlin:20260529T193000
DTEND;TZID=Europe/Berlin:20260529T235959
LOCATION:Heizhaus\, Theaterplatz 19 04600 Altenburg
ORGANIZER;CN=Theater Altenburg Gera:mailto:info@theater-altenburg-gera.de
END:VEVENT
BEGIN:VEVENT
UID:45aeba166ba4eee73f3be2be48e4496c
DTSTAMP:20260421T075513Z
SUMMARY:Yoga im Botanischen Erlebnisgarten
DESCRIPTION:Entspannt ins Wochenende starten. 
URL:https://www.altenburgerland.de/de/freizeit-tourismus/veranstaltungskale
 nder/yoga-im-botanischen-erlebnisgarten-9710
DTSTART;TZID=Europe/Berlin:20260530T093000
DTEND;TZID=Europe/Berlin:20260530T110000
LOCATION:Botanischer Erlebnisgarten Altenburg\, Heinrich-Zille-Straße 12 0
 4600 Altenburg
ORGANIZER;CN=Diana Rosner:mailto:dianarosner07@web.de
END:VEVENT
BEGIN:VEVENT
UID:2e434a19dda5e38f7fa0e2bf562944e2
DTSTAMP:20260224T093553Z
SUMMARY:Flugplatzfest am Flugplatz Altenburg-Nobitz
DESCRIPTION:Am Flugplatz Altenburg-Nobitz laden der Ostthüringer Fallschir
 msportclub e.V. und der AeroClub Altenburg e.V. gemeinsam zum Flugplatzfes
 t ein. 
URL:https://www.altenburgerland.de/de/freizeit-tourismus/veranstaltungskale
 nder/flugplatzfest-am-flugplatz-altenburg-nobitz
DTSTART;TZID=Europe/Berlin:20260530T100000
DTEND;TZID=Europe/Berlin:20260531T180000
LOCATION:Am Flughafen 3 04603 Nobitz
ORGANIZER;CN=Ostthüringer Fallschirmsportclub e.V.:mailto:info@ofc-altenbu
 rg.de
END:VEVENT
BEGIN:VEVENT
UID:d24438ca9ca2b89822d16ce1d4d73dfd
DTSTAMP:20260309T124802Z
SUMMARY:Gartenrundwanderweg Altenburg – Wunderwelt Giftpflanzen! Nur Scha
 uen nicht klauen.
DESCRIPTION:Geführte Wanderung auf der Wanderroute durch die Vielfalt der 
 Altenburger Kleingartenreiche. 
URL:https://www.altenburgerland.de/de/freizeit-tourismus/veranstaltungskale
 nder/gartenrundwanderweg-altenburg-wunderwelt-giftpflanzen-nur-schauen-nic
 ht-klauen
DTSTART;TZID=Europe/Berlin:20260530T100000
DTEND;TZID=Europe/Berlin:20260530T130000
LOCATION:Treffpunkt: Tourismusinformation\, Markt 10 04600 Altenburg
ORGANIZER;CN=Regionalverband Altenburger Land der Kleingärtner e.V.:mailto
 :info@kleingarten-altenburg.de
END:VEVENT
BEGIN:VEVENT
UID:ff92bf746349b13221f0eba56190346e
DTSTAMP:20260209T194112Z
SUMMARY:Öffentliche Stadtführung durch Altenburg am 30. Mai
DESCRIPTION:Verschaffen Sie sich einen Überblick und begleiten Sie uns auf
  einem entspannten Rundgang durch die reizvolle Altenburger Altstadt. Ansc
 hließend verkosten Sie leckere Altenburger Spezialitäten.\nAnmeldung bis
  kurz vor der Veranstaltung möglich. 
URL:https://www.altenburger-originale.de/
DTSTART;TZID=Europe/Berlin:20260530T110000
DTEND;TZID=Europe/Berlin:20260530T123000
LOCATION:Start: Spielkarten- & Spezialitätenladen der Altenburger Tourismu
 s GmbH\, Markt 17 (neben Rossmann) 04600 Altenburg
END:VEVENT
BEGIN:VEVENT
UID:ef5c49958c48803aa1e1182177813455
DTSTAMP:20260316T115933Z
SUMMARY:Altenburger Friedhofsführung am 30. Mai
DESCRIPTION:Einen der ältesten noch genutzten Stadtfriedhöfe können Besu
 cher in Altenburg erkunden.  
URL:https://www.altenburgerland.de/de/freizeit-tourismus/veranstaltungskale
 nder/altenburger-friedhofsfuehrung-am-30-mai
DTSTART;TZID=Europe/Berlin:20260530T140000
DTEND;TZID=Europe/Berlin:20260530T160000
LOCATION:Treffpunkt: Eingang Kirchlicher Friedhof Altenburg\, Grüntaler We
 g 4 04600 Altenburg
ORGANIZER;CN=Tourismusverband Altenburger Land e.V.:mailto:info@altenburg.t
 ravel
END:VEVENT
BEGIN:VEVENT
UID:7eb380c62ef7464d444a45ce4343c628
DTSTAMP:20260407T122016Z
SUMMARY:Finissage zum 25. Holzbildhauer-Pleinairs
DESCRIPTION:
URL:https://www.quellen-hof.de/kulturgut-quellenhof/quellenhof-event/
DTSTART;TZID=Europe/Berlin:20260530T160000
DTEND;TZID=Europe/Berlin:20260530T235959
LOCATION:Kulturgut Quellenhof\, Garbisdorf 6  04618 Göpfersdorf
END:VEVENT
BEGIN:VEVENT
UID:ed886eece92e6250a9345589024979c4
DTSTAMP:20260123T092734Z
SUMMARY:Ludwig Müller singt Reinhard Mey
DESCRIPTION:„Du kannst fliegen über den Wolken und darüber hinaus“ - 
 Ein Abend mit Liedern von Reinhard Mey
URL:https://orgelverein-grossstechau.jimdosite.com/events/
DTSTART;TZID=Europe/Berlin:20260530T190000
DTEND;TZID=Europe/Berlin:20260530T235959
LOCATION:Bürgersaal Löbichau\, Beerwalder Str. 33 04626 Löbichau
ORGANIZER;CN=Verein zur Erhaltung der Poppe-Orgel und der Kirche Großstech
 au e.V.:mailto:orgelverein-grossstechau@t-online.de
END:VEVENT
BEGIN:VEVENT
UID:d2e91ebf6d6728f43413db7175c42404
DTSTAMP:20260126T102811Z
SUMMARY:Orgelkonzert in der Friedenskirche Ponitz
DESCRIPTION:Das Konzert mit Martin Hesse (Gera) findet in der Ponitzer Frie
 denskirche statt. 
URL:https://www.kirchengemeinde-ponitz.de/veranstaltungen/
DTSTART;TZID=Europe/Berlin:20260530T193000
DTEND;TZID=Europe/Berlin:20260530T235959
LOCATION:Friedenskirche Ponitz 04639 Ponitz
ORGANIZER;CN=Kirchgemeinde Ponitz:mailto:koenig.ponitz@icloud.com
END:VEVENT
BEGIN:VEVENT
UID:a61b68066ae396d4713d2fed5394d2e6
DTSTAMP:20260312T105317Z
SUMMARY:Sonntagsfahrt mit der Kohlebahn am 31. Mai
DESCRIPTION:Auch an den Sonntagen rollt die historische Kohlebahn durch das
  ehemalige Braunkohlenrevier von Meuselwitz bis ins sächsische Regis-Brei
 tingen.
URL:https://www.kohlebahnen.de/
DTSTART;VALUE=DATE:20260531
LOCATION:Kulturbahnhof Meuselwitz | Georgenstraße 46 04610 Meuselwitz
ORGANIZER;CN=Verein Kohlebahnen e. V.:mailto:fahrten-kohlebahnen@web.de
END:VEVENT
BEGIN:VEVENT
UID:650fb041864d489fa9f0aeb4f6907571
DTSTAMP:20260223T120816Z
SUMMARY:Schlossführung mit der Hofdame Margarethe von Pawel am 31. Mai 202
 6
DESCRIPTION:Hofdame Margarethe von Pawel versetzt Sie in das Jahr 1913 und 
 gibt Ihnen einen Einblick in den Hofstaat des Hauses Sachsen-Altenburg. 
URL:https://www.altenburgerland.de/de/freizeit-tourismus/veranstaltungskale
 nder/schlossfuehrung-mit-der-hofdame-margarethe-von-pawel-am-31-mai-2026
DTSTART;TZID=Europe/Berlin:20260531T120000
DTEND;TZID=Europe/Berlin:20260531T130000
LOCATION:Schlossmuseum Altenburg 04600 Altenburg
ORGANIZER;CN=Altenburger Museen (Schloss):mailto:info@residenzschloss-alten
 burg.de
END:VEVENT
BEGIN:VEVENT
UID:9ca7aaadfb6322529d6c19688414846e
DTSTAMP:20260223T151229Z
SUMMARY:Sonntagsführung: Entlang der Zwingermauer des Altenburger Schlosse
 s
DESCRIPTION:mit Beatrix Weinhold-Haucke
URL:https://www.altenburgerland.de/de/freizeit-tourismus/veranstaltungskale
 nder/sonntagsfuehrung-entlang-der-zwingermauer-des-altenburger-schlosses
DTSTART;TZID=Europe/Berlin:20260531T140000
DTEND;TZID=Europe/Berlin:20260531T150000
LOCATION:04600 Altenburg
ORGANIZER;CN=Altenburger Museen (Schloss):mailto:info@residenzschloss-alten
 burg.de
END:VEVENT
BEGIN:VEVENT
UID:b237180c21b6e45bd12eaad06a969106
DTSTAMP:20260317T152359Z
SUMMARY:Musikalischer Nachmittag mit der Musikschule Altenburg im Botanisch
 en Garten
DESCRIPTION:Die Musikschule Altenburg ist erneut im Botanischen Erlebnisgar
 ten in Altenburg zu Gast und erfreut diesmal mit einem bunten Strauß an L
 iedern und Chormusik\, präsentiert von Schülern verschiedener Altersstuf
 en. 
URL:https://www.altenburgerland.de/de/freizeit-tourismus/veranstaltungskale
 nder/musikalischer-nachmittag-mit-der-musikschule-altenburg-im-botanischen
 -garten
DTSTART;TZID=Europe/Berlin:20260531T150000
DTEND;TZID=Europe/Berlin:20260531T235959
LOCATION:Botanischer Erlebnisgarten Altenburg\, Heinrich-Zille-Straße 12 0
 4600 Altenburg
ORGANIZER;CN=Botanischer Erlebnisgarten Altenburg:mailto:boga-altenburg@t-o
 nline.de
END:VEVENT
BEGIN:VEVENT
UID:0a5be8cc39fb07e01459da6a15381143
DTSTAMP:20260317T150157Z
SUMMARY:Premiere: „Jeu de Cartes / Pulcinella“
DESCRIPTION:Mit einem außergewöhnlichen Ballett-Doppelabend widmet sich d
 as Thüringer Staatsballett zwei Schlüsselwerken der Tanzgeschichte des 2
 0. Jahrhunderts: „Jeu de Cartes“ und „Pulcinella“. 
URL:https://theater-altenburg-gera.de/stuecke-konzerte/jeu-de-cartes-pulcin
 ella-1918/
DTSTART;TZID=Europe/Berlin:20260531T180000
DTEND;TZID=Europe/Berlin:20260531T235959
LOCATION:Theaterzelt Altenburg\, Teichpromenade 36 04600 Altenburg
ORGANIZER;CN=Theater Altenburg Gera:mailto:info@theater-altenburg-gera.de
END:VEVENT
BEGIN:VEVENT
UID:f9ca0fd4adf42dce0f6a68dc98c8fb42
DTSTAMP:20260421T065708Z
SUMMARY:Turmblasen vom Nikolaikirchturm Altenburg
DESCRIPTION:Inzwischen zur Tradition geworden\, erklingt die Bläsermusik d
 es Altenburger Posaunenchors wieder vom Nikolaikirchturm. 
URL:https://www.altenburgerland.de/de/freizeit-tourismus/veranstaltungskale
 nder/turmblasen-vom-nikolaikirchturm-altenburg-7af8
DTSTART;TZID=Europe/Berlin:20260531T180000
DTEND;TZID=Europe/Berlin:20260531T235959
LOCATION:Nikolaikirchturm\, Nikolaikirchhof 45  04600 Altenburg
ORGANIZER;CN=Posaunenchor Altenburg:mailto:posaunenchor-altenburg@web.de
END:VEVENT
BEGIN:VEVENT
UID:99481d1bdcbb8d601e7fa7e4826d0431
DTSTAMP:20260215T211652Z
SUMMARY:Öffentliche Stadtführung durch Altenburg am 01. Juni
DESCRIPTION:Kommen Sie mit uns auf einen Entdeckungstour durch die ehemalig
 e Residenz der Wettiner Fürsten. Es gibt keine bessere Art\, einen guten 
 Überblick über die Spielkartenstadt und ihre 1000-jährige Geschichte zu
  erhalten. 
URL:https://www.altenburger-originale.de/
DTSTART;TZID=Europe/Berlin:20260601T110000
DTEND;TZID=Europe/Berlin:20260601T123000
LOCATION:Start: Spielkarten- & Spezialitätenladen der Altenburger Tourismu
 s GmbH\, Markt 17 (neben Rossmann) 04600 Altenburg
END:VEVENT
BEGIN:VEVENT
UID:1b6e89a81d85be21370f72212e1ebb3c
DTSTAMP:20260407T093125Z
SUMMARY:Tanz dich fit
DESCRIPTION:Tanznachmittag für 60- bis 105-jährige 
URL:https://www.altenburgerland.de/de/freizeit-tourismus/veranstaltungskale
 nder/tanz-dich-fit-1a34
DTSTART;TZID=Europe/Berlin:20260601T141500
DTEND;TZID=Europe/Berlin:20260601T235959
LOCATION:Kultur- & Bildungswerkstatt Nöbdenitz\, Dorfstraße 29 04626 Schm
 ölln
ORGANIZER;CN=Evang.-Luther. Kirchgemeinde Nöbdenitz:mailto:kirchkasse.noeb
 denitz@googlemail.com
END:VEVENT
END:VCALENDAR
