BEGIN:VCALENDAR
PRODID:-//eluceo/ical//2.0/EN
VERSION:2.0
CALSCALE:GREGORIAN
BEGIN:VEVENT
UID:9de6be4096d7c2543db3ade28959c8d6
DTSTAMP:20260317T082725Z
SUMMARY:34. Altenburger Spieletag
DESCRIPTION:Brettspiele zum Ausprobieren\, eine Kinderecke zum spielerische
 n austoben\, Meisterschaften und vieles mehr. 
URL:http://www.altenburger-spieletage.de
DTSTART;TZID=Europe/Berlin:20261107T140000
DTEND;TZID=Europe/Berlin:20261107T190000
LOCATION:Gemeindezentrum der Ev.-Freikirchliche Gemeinde\, Zeitzer Str. 39 
 04600 Altenburg
ORGANIZER;CN=Gabriele & Thomas Orymek:mailto:info@altenburger-spieletage.de
END:VEVENT
END:VCALENDAR
