BEGIN:VCALENDAR
PRODID:-//eluceo/ical//2.0/EN
VERSION:2.0
CALSCALE:GREGORIAN
BEGIN:VEVENT
UID:d0492a7b8dd0d02e9d9243b04087c049
DTSTAMP:20260424T111645Z
SUMMARY:4. Geistertag auf Burg Posterstein
DESCRIPTION:Schwarze Katze\, gruselige Krähen\, glücksbringende Hufeisen:
  Zu Halloween ist Geistertag auf Burg Posterstein. 
URL:https://www.burg-posterstein.de/kalender/veranstaltungen/
DTSTART;TZID=Europe/Berlin:20261031T110000
DTEND;TZID=Europe/Berlin:20261031T163000
LOCATION:Burg Posterstein\, Burgberg 1 04626 Posterstein
ORGANIZER;CN=Museum Burg Posterstein:mailto:info@burg-posterstein.de
END:VEVENT
END:VCALENDAR
