BEGIN:VCALENDAR
PRODID:-//eluceo/ical//2.0/EN
VERSION:2.0
CALSCALE:GREGORIAN
BEGIN:VEVENT
UID:354bf5b92bbc25ac2b47137696537ed8
DTSTAMP:20260424T110841Z
SUMMARY:8. Großes Steckenpferd-Turnier
DESCRIPTION:Am Weltkindertag lädt das Museum Burg Posterstein tapfere Burg
 fräulein und Ritter zum Großen Steckenpferdturnier ein. 
URL:https://www.burg-posterstein.de/kinder/steckenpferdturnier/
DTSTART;VALUE=DATE:20260920
LOCATION:Burg Posterstein\, Burgberg 1 04626 Posterstein
ORGANIZER;CN=Museum Burg Posterstein:mailto:info@burg-posterstein.de
END:VEVENT
END:VCALENDAR
