BEGIN:VCALENDAR
PRODID:-//eluceo/ical//2.0/EN
VERSION:2.0
CALSCALE:GREGORIAN
BEGIN:VEVENT
UID:96938e8e1bb4e9537108c3972087df5d
DTSTAMP:20260424T084707Z
SUMMARY:9. Kammerkonzert – „Von Havanna bis zum Zuckerhut“ 
DESCRIPTION:Musik aus Lateinamerika 
URL:https://theater-altenburg-gera.de/stuecke-konzerte/9-kammerkonzert-2023
 /
DTSTART;TZID=Europe/Berlin:20260705T110000
DTEND;TZID=Europe/Berlin:20260705T235959
LOCATION:Paul-Gustavus-Haus\, Wallstraße 29 04600 Altenburg
ORGANIZER;CN=Theater Altenburg Gera:mailto:info@theater-altenburg-gera.de
END:VEVENT
END:VCALENDAR
