BEGIN:VCALENDAR
PRODID:-//eluceo/ical//2.0/EN
VERSION:2.0
CALSCALE:GREGORIAN
BEGIN:VEVENT
UID:bbd0967d603225a66eca06df92651e5e
DTSTAMP:20260424T112642Z
SUMMARY:Advent im Salon – Märchenhaftes für die ganze Familie
DESCRIPTION:Der “Advent im Salon” auf Burg Posterstein ist ein Nachmitt
 ag in weihnachtlicher Stimmung fernab des Weihnachtsmarkttrubels\, an dem 
 der Geist der historischen Salons aufleben soll: mit Musik\, Literatur und
  Unterhaltung. 
URL:https://www.burg-posterstein.de/kalender/veranstaltungen/
DTSTART;TZID=Europe/Berlin:20261213T110000
DTEND;TZID=Europe/Berlin:20261213T170000
LOCATION:Burg Posterstein\, Burgberg 1 04626 Posterstein
ORGANIZER;CN=Museum Burg Posterstein:mailto:info@burg-posterstein.de
END:VEVENT
END:VCALENDAR
