BEGIN:VCALENDAR
PRODID:-//eluceo/ical//2.0/EN
VERSION:2.0
CALSCALE:GREGORIAN
BEGIN:VEVENT
UID:e27bc6aef82e043209dca5614954a8e3
DTSTAMP:20260424T092400Z
SUMMARY:Adventskonzert mit dem Jugendblasorchester Lucka
DESCRIPTION:
URL:https://www.altenburgerland.de/de/freizeit-tourismus/veranstaltungskale
 nder/adventskonzert-mit-dem-jugendblasorchester-lucka
DTSTART;TZID=Europe/Berlin:20261213T150000
DTEND;TZID=Europe/Berlin:20261213T235959
LOCATION:Pankratiuskirche Lucka\, Pegauer Str. 1 04613 Lucka
ORGANIZER;CN=Jugendblasorchester Lucka e.V.:mailto:info@jugendblasorchester
 lucka.de
END:VEVENT
END:VCALENDAR
