BEGIN:VCALENDAR
PRODID:-//eluceo/ical//2.0/EN
VERSION:2.0
CALSCALE:GREGORIAN
BEGIN:VEVENT
UID:3e6af5c0b0e34b4b0f45a9c30d358368
DTSTAMP:20260424T112323Z
SUMMARY:Ausstellung: Alle Jahre wieder – Weihnachtskrippen auf Burg Poste
 rstein
DESCRIPTION:Die jährliche Weihnachtsausstellung auf Burg Posterstein stell
 t jedes Jahr einen Teil der Krippensammlung in den Mittelpunkt. 
URL:https://www.burg-posterstein.de/kalender/veranstaltungen/
DTSTART;VALUE=DATE:20261129
LOCATION:Burg Posterstein\, Burgberg 1 04626 Posterstein
ORGANIZER;CN=Museum Burg Posterstein:mailto:info@burg-posterstein.de
END:VEVENT
END:VCALENDAR
