BEGIN:VCALENDAR
PRODID:-//eluceo/ical//2.0/EN
VERSION:2.0
CALSCALE:GREGORIAN
BEGIN:VEVENT
UID:f5d0a94476c138736f776ca2e4d470b8
DTSTAMP:20260424T065002Z
SUMMARY:Benefizkonzert: Digital Factor & Friends 
DESCRIPTION:3. Benefizkonzert für Kinderstiftung
URL:https://www.altenburgerland.de/de/freizeit-tourismus/veranstaltungskale
 nder/benefizkonzert-digital-factor-friends
DTSTART;TZID=Europe/Berlin:20260516T200000
DTEND;TZID=Europe/Berlin:20260516T235959
LOCATION:Paul-Gustavus-Haus Altenburg\, Wallstraße 29 04600 Altenburg
ORGANIZER;CN=Digital Factor :mailto:booking@digitalfactor.de
END:VEVENT
END:VCALENDAR
