BEGIN:VCALENDAR
PRODID:-//eluceo/ical//2.0/EN
VERSION:2.0
CALSCALE:GREGORIAN
BEGIN:VEVENT
UID:dc7f35dcebe8912d877a7825d43fc6ff
DTSTAMP:20260421T065013Z
SUMMARY:Bläsermusik im Frühjahr
DESCRIPTION:In der St. Bartholomäi-Kirche findet am Samstag\, den 02. Mai 
 2026\, um 17 Uhr die inzwischen zur Tradition gewordene Bläsermusik im Fr
 ühjahr statt. 
URL:https://www.altenburgerland.de/de/freizeit-tourismus/veranstaltungskale
 nder/blaesermusik-im-fruehjahr
DTSTART;TZID=Europe/Berlin:20260502T170000
DTEND;TZID=Europe/Berlin:20260502T235959
LOCATION:St. Bartholomäi-Kirche 04600 Altenburg
ORGANIZER;CN=Posaunenchor Altenburg:mailto:posaunenchor-altenburg@web.de
END:VEVENT
END:VCALENDAR
