BEGIN:VCALENDAR
PRODID:-//eluceo/ical//2.0/EN
VERSION:2.0
CALSCALE:GREGORIAN
BEGIN:VEVENT
UID:a8386dc309799accd17f608cdb7096b8
DTSTAMP:20260424T091223Z
SUMMARY:Countryfest in Breitenhain
DESCRIPTION:Das diesjährige Breitenhainer Countryfest findet vom 22.05. - 
 24.05.26 statt! 
URL:https://countryfest-breitenhain.jimdofree.com
DTSTART;VALUE=DATE:20260522
LOCATION:OT Breitenhain 04613 Lucka
END:VEVENT
END:VCALENDAR
