BEGIN:VCALENDAR
PRODID:-//eluceo/ical//2.0/EN
VERSION:2.0
CALSCALE:GREGORIAN
BEGIN:VEVENT
UID:497d1a1f328fc23120ce8a19aee4904a
DTSTAMP:20260129T143549Z
SUMMARY: Farinelli BaRockt Vivaldi
DESCRIPTION:Polish Art Philharmonic & Maestro M. Maciaszczyk 
URL:https://www.youtube.com/watch?v=gVmb7xUCGao
DTSTART;TZID=Europe/Berlin:20260428T193000
DTEND;TZID=Europe/Berlin:20260428T235959
LOCATION:Brüderkirche Altenburg 04600 Altenburg
ORGANIZER;CN=EVENT- & KULTURMANAGEMENT:mailto:dirk_kamella@web.de
END:VEVENT
END:VCALENDAR
