BEGIN:VCALENDAR
PRODID:-//eluceo/ical//2.0/EN
VERSION:2.0
CALSCALE:GREGORIAN
BEGIN:VEVENT
UID:0521e39a565afd69d31d5727c1e3a9d9
DTSTAMP:20260422T075021Z
SUMMARY:Fördermittelwerkstatt Ehrenamt 2026
DESCRIPTION:Viele Vereine und Initiativen haben gute Ideen für Projekte vo
 r Ort – doch oft fehlt das Wissen\, wie sich passende Fördermittel find
 en und erfolgreiche Förderanträge schreiben lassen. Genau hier setzt die
  Fördermittelwerkstatt Ehrenamt der Deutschen Stiftung für Engagement un
 d Ehrenamt (DSEE) an.
URL:https://www.deutsche-stiftung-engagement-und-ehrenamt.de/mitmachen/foer
 dermittelwerkstatt-2026/
DTSTART;TZID=Europe/Berlin:20260523T090000
DTEND;TZID=Europe/Berlin:20260523T170000
LOCATION:Music Hall Altenburg\, Johannisgraben 5 04600 Altenburg
ORGANIZER;CN=Deutsche Stiftung für Engagement und Ehrenamt:mailto:hallo@d-
 s-e-e.de
END:VEVENT
END:VCALENDAR
