BEGIN:VCALENDAR
PRODID:-//eluceo/ical//2.0/EN
VERSION:2.0
CALSCALE:GREGORIAN
BEGIN:VEVENT
UID:f62f2c3e3881f91046902a2067b805bc
DTSTAMP:20260424T053019Z
SUMMARY:Gundermann - eine musikalische Lesung mit Johannes Emmrich
DESCRIPTION:Das Papiermuseum Fockendorf lädt ein zu...
URL:https://www.altenburgerland.de/de/freizeit-tourismus/veranstaltungskale
 nder/gundermann-eine-musikalische-lesung-mit-johannes-emmrich
DTSTART;TZID=Europe/Berlin:20260718T193000
DTEND;TZID=Europe/Berlin:20260718T235959
LOCATION:Heimat- und Papiermuseum\, Fabrikstr. 10 04617 Fockendorf
ORGANIZER;CN=Papiermuseum Fockendorf:mailto:papiermuseum@gmx.de
END:VEVENT
END:VCALENDAR
