BEGIN:VCALENDAR
PRODID:-//eluceo/ical//2.0/EN
VERSION:2.0
CALSCALE:GREGORIAN
BEGIN:VEVENT
UID:fffdafac430f486ec3a9b1bd46042517
DTSTAMP:20260424T111341Z
SUMMARY:Herbstferien-Programm auf Burg Posterstein: Nymphe\, Drache\, Einho
 rn – Sagenhafte Wesen
DESCRIPTION:Wo passen sie besser hin als auf eine alte Burg? Im Herbstferie
 n-Rätsel auf Burg Posterstein geht es um mythische Wesen. 
URL:https://www.burg-posterstein.de/veranstaltungen/
DTSTART;VALUE=DATE:20261010
LOCATION:Burg Posterstein\, Burgberg 1 04626 Posterstein
ORGANIZER;CN=Museum Burg Posterstein:mailto:info@burg-posterstein.de
END:VEVENT
END:VCALENDAR
