BEGIN:VCALENDAR
PRODID:-//eluceo/ical//2.0/EN
VERSION:2.0
CALSCALE:GREGORIAN
BEGIN:VEVENT
UID:69a8ccffed5cef4017f06879074d8d64
DTSTAMP:20260216T134846Z
SUMMARY:Jahreskonzert des 1. Ostthüringer Blasorchesters Nobitz e.V.
DESCRIPTION:Zum 65-jährigen Jubiläums des 1. Ostthüringer Blasorchesters
  Nobitz e.V. im Theaterzelt Altenburg 
URL:https://www.altenburgerland.de/de/freizeit-tourismus/veranstaltungskale
 nder/jahreskonzert-des-1-ostthueringer-blasorchesters-nobitz-e-v
DTSTART;TZID=Europe/Berlin:20260425T150000
DTEND;TZID=Europe/Berlin:20260425T235959
LOCATION:Theaterzelt 04600 Altenburg
END:VEVENT
END:VCALENDAR
