BEGIN:VCALENDAR
PRODID:-//eluceo/ical//2.0/EN
VERSION:2.0
CALSCALE:GREGORIAN
BEGIN:VEVENT
UID:53e5f0cd85f9cadc402f717eb581d25c
DTSTAMP:20260424T085633Z
SUMMARY:Kabarett Herkuleskeule Dresden
DESCRIPTION:RABIMMEL RABAMMEL RABUMM  - Zwei Männer retten die Welt 
URL:https://theater-altenburg-gera.de/stuecke-konzerte/kabarett-herkuleskeu
 le-dresden-2033/
DTSTART;TZID=Europe/Berlin:20260523T180000
DTEND;TZID=Europe/Berlin:20260523T235959
LOCATION:Theaterzelt\, Teichpromenade 36 04600 Altenburg
ORGANIZER;CN=Theater Altenburg Gera:mailto:info@theater-altenburg-gera.de
END:VEVENT
END:VCALENDAR
