BEGIN:VCALENDAR
PRODID:-//eluceo/ical//2.0/EN
VERSION:2.0
CALSCALE:GREGORIAN
BEGIN:VEVENT
UID:496291979bb346f5df9d1783ed2190a3
DTSTAMP:20260421T131932Z
SUMMARY:Kaffeekränzchen am 24. April 2026: Einblicke in das Altenburger Pr
 axisjahr für Kunstgut- und Denkmalrestaurierung 
DESCRIPTION:Veranstaltungsreihe für ältere Museumsfreunde
URL:https://www.altenburgerland.de/de/freizeit-tourismus/veranstaltungskale
 nder/kaffeekraenzchen-am-24-april-2026-einblicke-in-das-altenburger-praxis
 jahr-fuer-kunstgut-und-denkmalrestaurierung
DTSTART;TZID=Europe/Berlin:20260424T140000
DTEND;TZID=Europe/Berlin:20260424T160000
LOCATION:Schlossmuseum 04600 Altenburg
ORGANIZER;CN=Altenburger Museen (Schloss):mailto:info@residenzschloss-alten
 burg.de
END:VEVENT
END:VCALENDAR
