BEGIN:VCALENDAR
PRODID:-//eluceo/ical//2.0/EN
VERSION:2.0
CALSCALE:GREGORIAN
BEGIN:VEVENT
UID:a34d74460f0aaab4c3f57ad413e27f73
DTSTAMP:20260407T121645Z
SUMMARY:Keramikwerkstatt im Kulturgut Quellenhof am 23. April
DESCRIPTION:Keramikkurse für Anfänger und Fortgeschrittene mit unserer Ke
 ramikerin Karin Gentsch-Geist
URL:https://www.quellen-hof.de/kulturgut-quellenhof/quellenhof-events/
DTSTART;VALUE=DATE:20260423
LOCATION:Kulturgut Quellenhof\, Garbisdorf 6  04618 Göpfersdorf
END:VEVENT
END:VCALENDAR
