BEGIN:VCALENDAR
PRODID:-//eluceo/ical//2.0/EN
VERSION:2.0
CALSCALE:GREGORIAN
BEGIN:VEVENT
UID:13f9c9bf57a964ba9c83c9c2ee0f3aea
DTSTAMP:20260424T062905Z
SUMMARY:KI und … „Sie können morgen ausschlafen.“
DESCRIPTION:
URL:https://www.gustavushaus-altenburg.de/
DTSTART;TZID=Europe/Berlin:20260428T190000
DTEND;TZID=Europe/Berlin:20260428T210000
LOCATION:Paul-Gustavus-Haus\, Wallstraße 29 04600 Altenburg
ORGANIZER;CN=Förderverein Zukunftswerkstatt Paul-Gustavus-Haus e.V.:mailto
 :post@gustavushaus-altenburg.de
END:VEVENT
END:VCALENDAR
