BEGIN:VCALENDAR
PRODID:-//eluceo/ical//2.0/EN
VERSION:2.0
CALSCALE:GREGORIAN
BEGIN:VEVENT
UID:1e497f82ca1bc979698fabf610090e53
DTSTAMP:20260422T112154Z
SUMMARY:Kindertagsfeier der Stadt Meuselwitz
DESCRIPTION:Kindertag im Seckendorff-Park am 6. Juni 2026 ab 14:00 Uhr. 
URL:https://www.meuselwitz.org/veranstaltungen
DTSTART;TZID=Europe/Berlin:20260606T140000
DTEND;TZID=Europe/Berlin:20260606T235959
LOCATION:Von-Seckendorff-Park 04610 Meuselwitz
ORGANIZER;CN=Stadtverwaltung Meuselwitz:mailto:info@meuselwitz.de
END:VEVENT
END:VCALENDAR
