BEGIN:VCALENDAR
PRODID:-//eluceo/ical//2.0/EN
VERSION:2.0
CALSCALE:GREGORIAN
BEGIN:VEVENT
UID:4460bce456d65f82c28b6c682a193acd
DTSTAMP:20260424T102612Z
SUMMARY:Lesecafé im Mai
DESCRIPTION:Sie sind auf der Suche nach Lesetipps? 
URL:https://www.altenburgerland.de/de/freizeit-tourismus/veranstaltungskale
 nder/lesecafe-im-mai
DTSTART;TZID=Europe/Berlin:20260505T160000
DTEND;TZID=Europe/Berlin:20260505T170000
LOCATION:Altenburger Stadtbibliothek\, Lindenaustraße 14 04600 Altenburg
ORGANIZER;CN=Stadtbibliothek Altenburg:mailto:bibliothek@stadt-altenburg.de
END:VEVENT
END:VCALENDAR
