BEGIN:VCALENDAR
PRODID:-//eluceo/ical//2.0/EN
VERSION:2.0
CALSCALE:GREGORIAN
BEGIN:VEVENT
UID:7ee2be52067278d34b3b60363506a011
DTSTAMP:20260424T094059Z
SUMMARY:Maibaumsetzen in Saara
DESCRIPTION:Wir laden euch alle herzlich ein zum Maibaum setzen am 30. Apri
 l 2026 um 17 Uhr am Gerätehaus in Saara. 
URL:https://www.altenburgerland.de/de/freizeit-tourismus/veranstaltungskale
 nder/maibaumsetzen-in-saara-34cc
DTSTART;TZID=Europe/Berlin:20260430T170000
DTEND;TZID=Europe/Berlin:20260430T235959
LOCATION:Gerätehaus der Feuerwehr Lehndorf im Ortsteil Saara (Saara 42a) 0
 4603 Nobitz
END:VEVENT
END:VCALENDAR
