BEGIN:VCALENDAR
PRODID:-//eluceo/ical//2.0/EN
VERSION:2.0
CALSCALE:GREGORIAN
BEGIN:VEVENT
UID:da1e2c92bae98d699db63e1dd41e3a90
DTSTAMP:20260424T095627Z
SUMMARY:Maibaumsetzen Mockern
DESCRIPTION:
URL:https://www.altenburgerland.de/de/freizeit-tourismus/veranstaltungskale
 nder/maibaumsetzen-mockern
DTSTART;TZID=Europe/Berlin:20260430T170000
DTEND;TZID=Europe/Berlin:20260430T235959
LOCATION:GBS Mockern\, an der Feuerwehr (Weststraße 4)\n 04603 Nobitz
END:VEVENT
END:VCALENDAR
