BEGIN:VCALENDAR
PRODID:-//eluceo/ical//2.0/EN
VERSION:2.0
CALSCALE:GREGORIAN
BEGIN:VEVENT
UID:866e3340f0f5f5259b392256d6a6159c
DTSTAMP:20260424T063450Z
SUMMARY:Pauls fulminante Weltreise – Ungarn
DESCRIPTION:Am 13. Mai werden wieder die Koffer gepackt – diesmal geht es
  bei „Pauls fulminanter Weltreise“ nach Ungarn! 
URL:https://theater-altenburg-gera.de/stuecke-konzerte/pauls-fulminante-wel
 treise-2058/
DTSTART;TZID=Europe/Berlin:20260513T200000
DTEND;TZID=Europe/Berlin:20260513T235959
LOCATION:Wallstraße 29\, Paul-Gustavus-Haus  04600 Altenburg
ORGANIZER;CN=Theater Altenburg Gera:mailto:info@theater-altenburg-gera.de
END:VEVENT
END:VCALENDAR
