BEGIN:VCALENDAR
PRODID:-//eluceo/ical//2.0/EN
VERSION:2.0
CALSCALE:GREGORIAN
BEGIN:VEVENT
UID:515a51f0857bed9e7e0c37d7f080fe38
DTSTAMP:20260310T152443Z
SUMMARY:Schüler lesen für Kinder „Der Löwe in dir“
DESCRIPTION:Am Dienstag\, 12. Mai\, lädt die Stadtbibliothek Altenburg her
 zlich zu einer besonderen Vorlesestunde ein: Unter dem Motto „Der Löwe 
 in dir“ findet ab 16 Uhr die nächste Ausgabe der Veranstaltungsreihe 
 „Schüler lesen für Kinder“ statt.
URL:https://www.altenburgerland.de/de/freizeit-tourismus/veranstaltungskale
 nder/schueler-lesen-fuer-kinder-der-loewe-in-dir
DTSTART;TZID=Europe/Berlin:20260512T160000
DTEND;TZID=Europe/Berlin:20260512T235959
LOCATION:Altenburger Stadtbibliothek\, Lindenaustraße 14 04600 Altenburg
ORGANIZER;CN=Stadtbibliothek Altenburg:mailto:bibliothek@stadt-altenburg.de
END:VEVENT
END:VCALENDAR
