BEGIN:VCALENDAR
PRODID:-//eluceo/ical//2.0/EN
VERSION:2.0
CALSCALE:GREGORIAN
BEGIN:VEVENT
UID:b0b410e633b233a8dd9265faec426730
DTSTAMP:20260422T082000Z
SUMMARY:Sing-Café
DESCRIPTION:Singen Sie mit und genießen Sie Kaffee und Kuchen im Kulturgut
  Quellenhof. 
URL:https://www.quellen-hof.de/kulturgut-quellenhof/quellenhof-events/
DTSTART;TZID=Europe/Berlin:20260609T143000
DTEND;TZID=Europe/Berlin:20260609T170000
LOCATION:KULTURGUT Quellenhof\, Garbisdorf 6 04618 Göpfersdorf
END:VEVENT
END:VCALENDAR
