BEGIN:VCALENDAR
PRODID:-//eluceo/ical//2.0/EN
VERSION:2.0
CALSCALE:GREGORIAN
BEGIN:VEVENT
UID:3f6ea3fbe8ec54ae8b27856055257f9c
DTSTAMP:20260424T062527Z
SUMMARY:Speedating Theaterberufe
DESCRIPTION:
URL:https://www.gustavushaus-altenburg.de/
DTSTART;TZID=Europe/Berlin:20260509T200000
DTEND;TZID=Europe/Berlin:20260509T230000
LOCATION:Paul-Gustavus-Haus\, Wallstraße 29 04600 Altenburg
ORGANIZER;CN=Förderverein Zukunftswerkstatt Paul-Gustavus-Haus e.V.:mailto
 :post@gustavushaus-altenburg.de
END:VEVENT
END:VCALENDAR
