BEGIN:VCALENDAR
PRODID:-//eluceo/ical//2.0/EN
VERSION:2.0
CALSCALE:GREGORIAN
BEGIN:VEVENT
UID:dd56779a31066b1836006228e99b831c
DTSTAMP:20260424T084559Z
SUMMARY:Stadtkrimi: „Blutrote Spitzen“
DESCRIPTION:Altenburg bekommt seine eigene Kriminalgeschichte: In „Blutro
 te Spitzen“ von Sophie Oldenstein und Manuel Kressin geht es um einen fi
 ktiven Krimi mitten in der Residenzstadt. 
URL:https://theater-altenburg-gera.de/stuecke-konzerte/blutrote-spitzen-191
 0/
DTSTART;TZID=Europe/Berlin:20260703T193000
DTEND;TZID=Europe/Berlin:20260703T235959
LOCATION:Heizhaus\, Theaterplatz 19 04600 Altenburg
ORGANIZER;CN=Theater Altenburg Gera:mailto:info@theater-altenburg-gera.de
END:VEVENT
END:VCALENDAR
