BEGIN:VCALENDAR
PRODID:-//eluceo/ical//2.0/EN
VERSION:2.0
CALSCALE:GREGORIAN
BEGIN:VEVENT
UID:6d504e4662619d37e74220a52f2a0b52
DTSTAMP:20260424T084241Z
SUMMARY:Stadtkrimi: „Blutrote Spitzen“
DESCRIPTION:Altenburg bekommt seine eigene Kriminalgeschichte: In „Blutro
 te Spitzen“ von Sophie Oldenstein und Manuel Kressin geht es um einen fi
 ktiven Krimi mitten in der Residenzstadt. 
URL:https://theater-altenburg-gera.de/stuecke-konzerte/blutrote-spitzen-191
 0/
DTSTART;TZID=Europe/Berlin:20260613T193000
DTEND;TZID=Europe/Berlin:20260613T235959
LOCATION:Heizhaus\, Theaterplatz 19 04600 Altenburg
ORGANIZER;CN=Theater Altenburg Gera:mailto:info@theater-altenburg-gera.de
END:VEVENT
END:VCALENDAR
