BEGIN:VCALENDAR
PRODID:-//eluceo/ical//2.0/EN
VERSION:2.0
CALSCALE:GREGORIAN
BEGIN:VEVENT
UID:519ad7fea2c82cc52f81b7a728fa4109
DTSTAMP:20260424T105435Z
SUMMARY:Töpfern & Wein bei Kerzenschein
DESCRIPTION:Workshop im Atelier Blaue Flut in Altenburg. 
URL:https://www.altenburgerland.de/de/freizeit-tourismus/veranstaltungskale
 nder/toepfern-wein-bei-kerzenschein
DTSTART;TZID=Europe/Berlin:20260905T190000
DTEND;TZID=Europe/Berlin:20260905T210000
LOCATION:Atelier "Blaue Flut"\, Frauenfelsstraße 4 04600 Altenburg
ORGANIZER;CN=Atelier Blaue Flut:mailto:jonathan@wolang.org
END:VEVENT
END:VCALENDAR
