BEGIN:VCALENDAR
PRODID:-//eluceo/ical//2.0/EN
VERSION:2.0
CALSCALE:GREGORIAN
BEGIN:VEVENT
UID:dc04565b1d256deefad6baf9e38f994e
DTSTAMP:20260421T065635Z
SUMMARY:Turmblasen vom Nikolaikirchturm Altenburg
DESCRIPTION:Inzwischen zur Tradition geworden\, erklingt die Bläsermusik d
 es Altenburger Posaunenchors wieder vom Nikolaikirchturm. 
URL:https://www.altenburgerland.de/de/freizeit-tourismus/veranstaltungskale
 nder/turmblasen-vom-nikolaikirchturm-altenburg-09e6
DTSTART;TZID=Europe/Berlin:20260517T180000
DTEND;TZID=Europe/Berlin:20260517T235959
LOCATION:Nikolaikirchturm\, Nikolaikirchhof 45  04600 Altenburg
ORGANIZER;CN=Posaunenchor Altenburg:mailto:posaunenchor-altenburg@web.de
END:VEVENT
END:VCALENDAR
