BEGIN:VCALENDAR
PRODID:-//eluceo/ical//2.0/EN
VERSION:2.0
CALSCALE:GREGORIAN
BEGIN:VEVENT
UID:ae331c42d63a81afba01a41001c628f8
DTSTAMP:20260421T070120Z
SUMMARY:Turmblasen vom Nikolaikirchturm Altenburg
DESCRIPTION:Inzwischen zur Tradition geworden\, erklingt die Bläsermusik d
 es Altenburger Posaunenchors wieder vom Nikolaikirchturm. 
URL:https://www.altenburgerland.de/de/freizeit-tourismus/veranstaltungskale
 nder/turmblasen-vom-nikolaikirchturm-altenburg-6e11
DTSTART;TZID=Europe/Berlin:20260809T180000
DTEND;TZID=Europe/Berlin:20260809T235959
LOCATION:Nikolaikirchturm\, Nikolaikirchhof 45  04600 Altenburg
ORGANIZER;CN=Posaunenchor Altenburg:mailto:posaunenchor-altenburg@web.de
END:VEVENT
END:VCALENDAR
