BEGIN:VCALENDAR
PRODID:-//eluceo/ical//2.0/EN
VERSION:2.0
CALSCALE:GREGORIAN
BEGIN:VEVENT
UID:8b259c684923f88cf5fb076ee4fd46c6
DTSTAMP:20260421T065708Z
SUMMARY:Turmblasen vom Nikolaikirchturm Altenburg
DESCRIPTION:Inzwischen zur Tradition geworden\, erklingt die Bläsermusik d
 es Altenburger Posaunenchors wieder vom Nikolaikirchturm. 
URL:https://www.altenburgerland.de/de/freizeit-tourismus/veranstaltungskale
 nder/turmblasen-vom-nikolaikirchturm-altenburg-7af8
DTSTART;TZID=Europe/Berlin:20260531T180000
DTEND;TZID=Europe/Berlin:20260531T235959
LOCATION:Nikolaikirchturm\, Nikolaikirchhof 45  04600 Altenburg
ORGANIZER;CN=Posaunenchor Altenburg:mailto:posaunenchor-altenburg@web.de
END:VEVENT
END:VCALENDAR
