BEGIN:VCALENDAR
PRODID:-//eluceo/ical//2.0/EN
VERSION:2.0
CALSCALE:GREGORIAN
BEGIN:VEVENT
UID:1afe55e064b90f6da2b2ed6a1e1bd69d
DTSTAMP:20260421T070139Z
SUMMARY:Turmblasen vom Nikolaikirchturm Altenburg
DESCRIPTION:Inzwischen zur Tradition geworden\, erklingt die Bläsermusik d
 es Altenburger Posaunenchors wieder vom Nikolaikirchturm. 
URL:https://www.altenburgerland.de/de/freizeit-tourismus/veranstaltungskale
 nder/turmblasen-vom-nikolaikirchturm-altenburg-f666
DTSTART;TZID=Europe/Berlin:20260816T180000
DTEND;TZID=Europe/Berlin:20260816T235959
LOCATION:Nikolaikirchturm\, Nikolaikirchhof 45  04600 Altenburg
ORGANIZER;CN=Posaunenchor Altenburg:mailto:posaunenchor-altenburg@web.de
END:VEVENT
END:VCALENDAR
