BEGIN:VCALENDAR
PRODID:-//eluceo/ical//2.0/EN
VERSION:2.0
CALSCALE:GREGORIAN
BEGIN:VEVENT
UID:e8722107406016c20ff80e6b8311fccd
DTSTAMP:20260421T071132Z
SUMMARY:Vortrag: Neues zur Altenburger Mundart
DESCRIPTION:Heimatforscher Wido Hertzsch widmet sich in einem Vortrag im Ra
 hmen der Veranstaltungsreihe der Geschichts- und Altertumsforschenden Gese
 llschaft des Osterlandes (GAGO) der Altenburger Mundart und stellt neue Er
 kenntnisse vor. 
URL:https://www.altenburgerland.de/de/freizeit-tourismus/veranstaltungskale
 nder/vortrag-neues-zur-altenburger-mundart
DTSTART;TZID=Europe/Berlin:20260429T190000
DTEND;TZID=Europe/Berlin:20260429T235959
LOCATION:Bachsaal im Residenzschloss Altenburg\, Schloss 2-4 04600 Altenbur
 g
ORGANIZER;CN=Geschichts- und Altertumsforschende Gesellschaft des Osterland
 es zu Altenburg e.V.:mailto:info@gago-altenburg.de
END:VEVENT
END:VCALENDAR
