BEGIN:VCALENDAR
PRODID:-//eluceo/ical//2.0/EN
VERSION:2.0
CALSCALE:GREGORIAN
BEGIN:VEVENT
UID:ef7a46b97532d5373c32a20b15d575c0
DTSTAMP:20260310T133311Z
SUMMARY:Vortragsveranstaltung: Der Biber in Ostthüringen - Wiederbesiedlun
 g und neue Herausforderungen
DESCRIPTION:Seit 2020 wird die Zuwanderung der Biber im Großraum Gera inte
 nsiv u. a. durch ein Wildkamera-Monitoring beobachtet und dokumentiert. 
URL:https://www.altenburgerland.de/de/freizeit-tourismus/veranstaltungskale
 nder/vortragsveranstaltung-der-biber-in-ostthueringen-wiederbesiedlung-und
 -neue-herausforderungen
DTSTART;TZID=Europe/Berlin:20260428T190000
DTEND;TZID=Europe/Berlin:20260428T235959
LOCATION:Naturkundemuseum Mauritianum Altenburg\, Parkstraße 10 04600 Alte
 nburg
ORGANIZER;CN=Naturforschende Gesellschaft Altenburg e.V.:mailto:info@nfga.d
 e
END:VEVENT
END:VCALENDAR
