BEGIN:VCALENDAR
PRODID:-//eluceo/ical//2.0/EN
VERSION:2.0
CALSCALE:GREGORIAN
BEGIN:VEVENT
UID:10abef7f8ca351b20f5db392b974573a
DTSTAMP:20260424T105829Z
SUMMARY:Workshop „Der Herbst ist da!“
DESCRIPTION:Töpfer-Workshop im Atelier Blaue Flut in Altenburg. 
URL:https://www.altenburgerland.de/de/freizeit-tourismus/veranstaltungskale
 nder/workshop-der-herbst-ist-da
DTSTART;TZID=Europe/Berlin:20260927T150000
DTEND;TZID=Europe/Berlin:20260927T170000
LOCATION:Atelier "Blaue Flut"\, Frauenfelsstraße 4 04600 Altenburg
ORGANIZER;CN=Atelier Blaue Flut:mailto:jonathan@wolang.org
END:VEVENT
END:VCALENDAR
