BEGIN:VCALENDAR
PRODID:-//eluceo/ical//2.0/EN
VERSION:2.0
CALSCALE:GREGORIAN
BEGIN:VEVENT
UID:284fa750e16a8255def5375d00b9ec80
DTSTAMP:20260421T071912Z
SUMMARY:Wort & Klang im Knopfmuseum Schmölln – „Zwei Welten. Eine Büh
 ne“
DESCRIPTION:Ein besonderer Abend im Knopfmuseum Schmölln 
URL:https://www.altenburgerland.de/de/freizeit-tourismus/veranstaltungskale
 nder/wort-klang-im-knopfmuseum-schmoelln-zwei-welten-eine-buehne
DTSTART;TZID=Europe/Berlin:20260507T190000
DTEND;TZID=Europe/Berlin:20260507T235959
LOCATION:Knopf- und Regionalmuseum\, Sprottenanger 2 04626 Schmölln
ORGANIZER;CN=Knopf- und Regionalmuseum Schmölln:mailto:knopfmuseum@schmoel
 ln.de
END:VEVENT
END:VCALENDAR
