BEGIN:VCALENDAR
PRODID:-//eluceo/ical//2.0/EN
VERSION:2.0
CALSCALE:GREGORIAN
BEGIN:VEVENT
UID:2bc1c263aeb0209087f5c4cd7936f637
DTSTAMP:20260421T075801Z
SUMMARY:Yoga im Botanischen Erlebnisgarten
DESCRIPTION:Entspannt ins Wochenende starten. 
URL:https://www.altenburgerland.de/de/freizeit-tourismus/veranstaltungskale
 nder/yoga-im-botanischen-erlebnisgarten-773f
DTSTART;TZID=Europe/Berlin:20260620T093000
DTEND;TZID=Europe/Berlin:20260620T110000
LOCATION:Botanischer Erlebnisgarten Altenburg\, Heinrich-Zille-Straße 12 0
 4600 Altenburg
ORGANIZER;CN=Diana Rosner:mailto:dianarosner07@web.de
END:VEVENT
END:VCALENDAR
