BEGIN:VCALENDAR
PRODID:-//eluceo/ical//2.0/EN
VERSION:2.0
CALSCALE:GREGORIAN
BEGIN:VEVENT
UID:4d626aff50d072a9f5ee6ba6a0240811
DTSTAMP:20260421T080422Z
SUMMARY:Yoga im Botanischen Erlebnisgarten
DESCRIPTION:Entspannt ins Wochenende starten. 
URL:https://www.altenburgerland.de/de/freizeit-tourismus/veranstaltungskale
 nder/yoga-im-botanischen-erlebnisgarten-93f0
DTSTART;TZID=Europe/Berlin:20260919T093000
DTEND;TZID=Europe/Berlin:20260919T110000
LOCATION:Botanischer Erlebnisgarten Altenburg\, Heinrich-Zille-Straße 12 0
 4600 Altenburg
ORGANIZER;CN=Diana Rosner:mailto:dianarosner07@web.de
END:VEVENT
END:VCALENDAR
