BEGIN:VCALENDAR
PRODID:-//eluceo/ical//2.0/EN
VERSION:2.0
CALSCALE:GREGORIAN
BEGIN:VEVENT
UID:7c551b43a097b2b7231fedcd74d19dd8
DTSTAMP:20260421T075719Z
SUMMARY:Yoga im Botanischen Erlebnisgarten
DESCRIPTION:Entspannt ins Wochenende starten. 
URL:https://www.altenburgerland.de/de/freizeit-tourismus/veranstaltungskale
 nder/yoga-im-botanischen-erlebnisgarten-946f
DTSTART;TZID=Europe/Berlin:20260606T093000
DTEND;TZID=Europe/Berlin:20260606T110000
LOCATION:Botanischer Erlebnisgarten Altenburg\, Heinrich-Zille-Straße 12 0
 4600 Altenburg
ORGANIZER;CN=Diana Rosner:mailto:dianarosner07@web.de
END:VEVENT
END:VCALENDAR
